BEGIN:VCALENDAR
VERSION:2.0
PRODID:-//Männerchor Münzesheim - ECPv6.15.20//NONSGML v1.0//EN
CALSCALE:GREGORIAN
METHOD:PUBLISH
X-WR-CALNAME:Männerchor Münzesheim
X-ORIGINAL-URL:https://maennerchor-muenzesheim.de
X-WR-CALDESC:Veranstaltungen für Männerchor Münzesheim
REFRESH-INTERVAL;VALUE=DURATION:PT1H
X-Robots-Tag:noindex
X-PUBLISHED-TTL:PT1H
BEGIN:VTIMEZONE
TZID:Europe/Berlin
BEGIN:DAYLIGHT
TZOFFSETFROM:+0100
TZOFFSETTO:+0200
TZNAME:CEST
DTSTART:20190331T010000
END:DAYLIGHT
BEGIN:STANDARD
TZOFFSETFROM:+0200
TZOFFSETTO:+0100
TZNAME:CET
DTSTART:20191027T010000
END:STANDARD
BEGIN:DAYLIGHT
TZOFFSETFROM:+0100
TZOFFSETTO:+0200
TZNAME:CEST
DTSTART:20200329T010000
END:DAYLIGHT
BEGIN:STANDARD
TZOFFSETFROM:+0200
TZOFFSETTO:+0100
TZNAME:CET
DTSTART:20201025T010000
END:STANDARD
BEGIN:DAYLIGHT
TZOFFSETFROM:+0100
TZOFFSETTO:+0200
TZNAME:CEST
DTSTART:20210328T010000
END:DAYLIGHT
BEGIN:STANDARD
TZOFFSETFROM:+0200
TZOFFSETTO:+0100
TZNAME:CET
DTSTART:20211031T010000
END:STANDARD
END:VTIMEZONE
BEGIN:VEVENT
DTSTART;VALUE=DATE:20200501
DTEND;VALUE=DATE:20200502
DTSTAMP:20260420T072608
CREATED:20200202T154614Z
LAST-MODIFIED:20200202T154614Z
UID:9127-1588291200-1588377599@maennerchor-muenzesheim.de
SUMMARY:Frühlingsfest
DESCRIPTION:
URL:https://maennerchor-muenzesheim.de/event/fruehlingsfest-2/
LOCATION:Horst-Kochendörfer-Platz\, Horst-Kochendörfer-Platz\, Kraichtal-Münzesheim\, Baden-Württemberg\, 76703\, Deutschland
END:VEVENT
BEGIN:VEVENT
DTSTART;VALUE=DATE:20200530
DTEND;VALUE=DATE:20200531
DTSTAMP:20260420T072608
CREATED:20200202T154732Z
LAST-MODIFIED:20200202T154748Z
UID:9129-1590796800-1590883199@maennerchor-muenzesheim.de
SUMMARY:Goldene Hochzeit von Vereinsmitglied
DESCRIPTION:
URL:https://maennerchor-muenzesheim.de/event/goldene-hochzeit-von-vereinsmitglied/
LOCATION:Baden-Württemberg
CATEGORIES:Veranstaltungen
END:VEVENT
END:VCALENDAR