BEGIN:VCALENDAR
VERSION:2.0
PRODID:-//Männerchor Münzesheim - ECPv6.15.20//NONSGML v1.0//EN
CALSCALE:GREGORIAN
METHOD:PUBLISH
X-ORIGINAL-URL:https://maennerchor-muenzesheim.de
X-WR-CALDESC:Veranstaltungen für Männerchor Münzesheim
REFRESH-INTERVAL;VALUE=DURATION:PT1H
X-Robots-Tag:noindex
X-PUBLISHED-TTL:PT1H
BEGIN:VTIMEZONE
TZID:Europe/Berlin
BEGIN:DAYLIGHT
TZOFFSETFROM:+0100
TZOFFSETTO:+0200
TZNAME:CEST
DTSTART:20190331T010000
END:DAYLIGHT
BEGIN:STANDARD
TZOFFSETFROM:+0200
TZOFFSETTO:+0100
TZNAME:CET
DTSTART:20191027T010000
END:STANDARD
BEGIN:DAYLIGHT
TZOFFSETFROM:+0100
TZOFFSETTO:+0200
TZNAME:CEST
DTSTART:20200329T010000
END:DAYLIGHT
BEGIN:STANDARD
TZOFFSETFROM:+0200
TZOFFSETTO:+0100
TZNAME:CET
DTSTART:20201025T010000
END:STANDARD
BEGIN:DAYLIGHT
TZOFFSETFROM:+0100
TZOFFSETTO:+0200
TZNAME:CEST
DTSTART:20210328T010000
END:DAYLIGHT
BEGIN:STANDARD
TZOFFSETFROM:+0200
TZOFFSETTO:+0100
TZNAME:CET
DTSTART:20211031T010000
END:STANDARD
END:VTIMEZONE
BEGIN:VEVENT
DTSTART;TZID=Europe/Berlin:20200215T170000
DTEND;TZID=Europe/Berlin:20200215T230000
DTSTAMP:20260422T101309
CREATED:20200202T154110Z
LAST-MODIFIED:20200202T161154Z
UID:9052-1581786000-1581807600@maennerchor-muenzesheim.de
SUMMARY:Generalversammlung GV „Sängerbund“
DESCRIPTION:
URL:https://maennerchor-muenzesheim.de/event/generalversammlung-gv-saengerbund/
LOCATION:Gasthaus Krone\, Unterdorfstraße 14\, Kraichtal\, Baden-Württembrg\, 76703\, Deutschland
CATEGORIES:Veranstaltungen
END:VEVENT
END:VCALENDAR