BEGIN:VCALENDAR
VERSION:2.0
PRODID:-//Männerchor Münzesheim - ECPv6.15.20//NONSGML v1.0//EN
CALSCALE:GREGORIAN
METHOD:PUBLISH
X-ORIGINAL-URL:https://maennerchor-muenzesheim.de
X-WR-CALDESC:Veranstaltungen für Männerchor Münzesheim
REFRESH-INTERVAL;VALUE=DURATION:PT1H
X-Robots-Tag:noindex
X-PUBLISHED-TTL:PT1H
BEGIN:VTIMEZONE
TZID:Europe/Berlin
BEGIN:DAYLIGHT
TZOFFSETFROM:+0100
TZOFFSETTO:+0200
TZNAME:CEST
DTSTART:20180325T010000
END:DAYLIGHT
BEGIN:STANDARD
TZOFFSETFROM:+0200
TZOFFSETTO:+0100
TZNAME:CET
DTSTART:20181028T010000
END:STANDARD
BEGIN:DAYLIGHT
TZOFFSETFROM:+0100
TZOFFSETTO:+0200
TZNAME:CEST
DTSTART:20190331T010000
END:DAYLIGHT
BEGIN:STANDARD
TZOFFSETFROM:+0200
TZOFFSETTO:+0100
TZNAME:CET
DTSTART:20191027T010000
END:STANDARD
BEGIN:DAYLIGHT
TZOFFSETFROM:+0100
TZOFFSETTO:+0200
TZNAME:CEST
DTSTART:20200329T010000
END:DAYLIGHT
BEGIN:STANDARD
TZOFFSETFROM:+0200
TZOFFSETTO:+0100
TZNAME:CET
DTSTART:20201025T010000
END:STANDARD
END:VTIMEZONE
BEGIN:VEVENT
DTSTART;VALUE=DATE:20190714
DTEND;VALUE=DATE:20190715
DTSTAMP:20260422T231508
CREATED:20190127T100533Z
LAST-MODIFIED:20190127T100533Z
UID:5229-1563062400-1563148799@maennerchor-muenzesheim.de
SUMMARY:Chorverbandstag Bahnbrücken
DESCRIPTION:
URL:https://maennerchor-muenzesheim.de/event/chorverbandstag-bahnbruecken/
LOCATION:Bahnbrücken\, Kraichtal-Bahnbrücken\, Baden-Württemberg\, 76703\, Deutschland
ORGANIZER;CN="Chorverband Kraichgau":MAILTO:juergen.adler@chorverband-kraichgau.de
END:VEVENT
BEGIN:VEVENT
DTSTART;VALUE=DATE:20190727
DTEND;VALUE=DATE:20190728
DTSTAMP:20260422T231508
CREATED:20190127T100615Z
LAST-MODIFIED:20190127T100615Z
UID:5233-1564185600-1564271999@maennerchor-muenzesheim.de
SUMMARY:Grillfest
DESCRIPTION:
URL:https://maennerchor-muenzesheim.de/event/grillfest/
LOCATION:OWK Hütte\, Im Haberkorn 1\, Kraichtal-Münzesheim\, Baden-Württemberg\, 76703\, Deutschland
END:VEVENT
BEGIN:VEVENT
DTSTART;TZID=Europe/Berlin:20190730T200000
DTEND;TZID=Europe/Berlin:20190730T213000
DTSTAMP:20260422T231508
CREATED:20190713T105752Z
LAST-MODIFIED:20190713T105752Z
UID:6599-1564516800-1564522200@maennerchor-muenzesheim.de
SUMMARY:Saisonabschluss mit offener Probe
DESCRIPTION:Genau Angaben folgen noch
URL:https://maennerchor-muenzesheim.de/event/saisonabschluss-mit-offener-probe/
LOCATION:Baden-Württemberg
CATEGORIES:Veranstaltungen
END:VEVENT
END:VCALENDAR