BEGIN:VCALENDAR
VERSION:2.0
PRODID:-//Männerchor Münzesheim - ECPv6.15.20//NONSGML v1.0//EN
CALSCALE:GREGORIAN
METHOD:PUBLISH
X-WR-CALNAME:Männerchor Münzesheim
X-ORIGINAL-URL:https://maennerchor-muenzesheim.de
X-WR-CALDESC:Veranstaltungen für Männerchor Münzesheim
REFRESH-INTERVAL;VALUE=DURATION:PT1H
X-Robots-Tag:noindex
X-PUBLISHED-TTL:PT1H
BEGIN:VTIMEZONE
TZID:Europe/Berlin
BEGIN:DAYLIGHT
TZOFFSETFROM:+0100
TZOFFSETTO:+0200
TZNAME:CEST
DTSTART:20190331T010000
END:DAYLIGHT
BEGIN:STANDARD
TZOFFSETFROM:+0200
TZOFFSETTO:+0100
TZNAME:CET
DTSTART:20191027T010000
END:STANDARD
BEGIN:DAYLIGHT
TZOFFSETFROM:+0100
TZOFFSETTO:+0200
TZNAME:CEST
DTSTART:20200329T010000
END:DAYLIGHT
BEGIN:STANDARD
TZOFFSETFROM:+0200
TZOFFSETTO:+0100
TZNAME:CET
DTSTART:20201025T010000
END:STANDARD
BEGIN:DAYLIGHT
TZOFFSETFROM:+0100
TZOFFSETTO:+0200
TZNAME:CEST
DTSTART:20210328T010000
END:DAYLIGHT
BEGIN:STANDARD
TZOFFSETFROM:+0200
TZOFFSETTO:+0100
TZNAME:CET
DTSTART:20211031T010000
END:STANDARD
END:VTIMEZONE
BEGIN:VEVENT
DTSTART;VALUE=DATE:20200712
DTEND;VALUE=DATE:20200713
DTSTAMP:20260420T054143
CREATED:20200202T154938Z
LAST-MODIFIED:20200202T154938Z
UID:9131-1594512000-1594598399@maennerchor-muenzesheim.de
SUMMARY:Verbandschortag Unteröwisheim
DESCRIPTION:
URL:https://maennerchor-muenzesheim.de/event/verbandschortag-unteroewisheim/
LOCATION:Unteröwisheim\, Kraichtal\, Baden-Württtemberg\, 76703\, Deutschland
ORGANIZER;CN="Chorverband Kraichgau":MAILTO:juergen.adler@chorverband-kraichgau.de
END:VEVENT
END:VCALENDAR