BEGIN:VCALENDAR
VERSION:2.0
PRODID:-//Männerchor Münzesheim - ECPv6.15.20//NONSGML v1.0//EN
CALSCALE:GREGORIAN
METHOD:PUBLISH
X-ORIGINAL-URL:https://maennerchor-muenzesheim.de
X-WR-CALDESC:Veranstaltungen für Männerchor Münzesheim
REFRESH-INTERVAL;VALUE=DURATION:PT1H
X-Robots-Tag:noindex
X-PUBLISHED-TTL:PT1H
BEGIN:VTIMEZONE
TZID:Europe/Berlin
BEGIN:DAYLIGHT
TZOFFSETFROM:+0100
TZOFFSETTO:+0200
TZNAME:CEST
DTSTART:20180325T010000
END:DAYLIGHT
BEGIN:STANDARD
TZOFFSETFROM:+0200
TZOFFSETTO:+0100
TZNAME:CET
DTSTART:20181028T010000
END:STANDARD
BEGIN:DAYLIGHT
TZOFFSETFROM:+0100
TZOFFSETTO:+0200
TZNAME:CEST
DTSTART:20190331T010000
END:DAYLIGHT
BEGIN:STANDARD
TZOFFSETFROM:+0200
TZOFFSETTO:+0100
TZNAME:CET
DTSTART:20191027T010000
END:STANDARD
BEGIN:DAYLIGHT
TZOFFSETFROM:+0100
TZOFFSETTO:+0200
TZNAME:CEST
DTSTART:20200329T010000
END:DAYLIGHT
BEGIN:STANDARD
TZOFFSETFROM:+0200
TZOFFSETTO:+0100
TZNAME:CET
DTSTART:20201025T010000
END:STANDARD
END:VTIMEZONE
BEGIN:VEVENT
DTSTART;TZID=Europe/Berlin:20191214T170000
DTEND;TZID=Europe/Berlin:20191214T230000
DTSTAMP:20260422T154002
CREATED:20190127T101026Z
LAST-MODIFIED:20191209T191721Z
UID:5243-1576342800-1576364400@maennerchor-muenzesheim.de
SUMMARY:Weihnachtsdorf
DESCRIPTION:  \n  \n  \n  \n  \n  \n  \nMitwirkende: \n\nproVOCAL Münzesheim\nMännerchor Münzesheim\nMusikverein „Harmonie“ Münzesheim\n\nFür vorweihnachtliche Verpflegung ist gesorgt.
URL:https://maennerchor-muenzesheim.de/event/weihanchtsdorf/
LOCATION:Kirchplatz St. Martinskirche Münzesheim\, Pfarrgasse 1\, Kraichtal\, Baden-Württemberg\, 76703\, Deutschland
END:VEVENT
END:VCALENDAR