BEGIN:VCALENDAR
VERSION:2.0
PRODID:-//Männerchor Münzesheim - ECPv6.15.20//NONSGML v1.0//EN
CALSCALE:GREGORIAN
METHOD:PUBLISH
X-ORIGINAL-URL:https://maennerchor-muenzesheim.de
X-WR-CALDESC:Veranstaltungen für Männerchor Münzesheim
REFRESH-INTERVAL;VALUE=DURATION:PT1H
X-Robots-Tag:noindex
X-PUBLISHED-TTL:PT1H
BEGIN:VTIMEZONE
TZID:Europe/Berlin
BEGIN:DAYLIGHT
TZOFFSETFROM:+0100
TZOFFSETTO:+0200
TZNAME:CEST
DTSTART:20170326T010000
END:DAYLIGHT
BEGIN:STANDARD
TZOFFSETFROM:+0200
TZOFFSETTO:+0100
TZNAME:CET
DTSTART:20171029T010000
END:STANDARD
BEGIN:DAYLIGHT
TZOFFSETFROM:+0100
TZOFFSETTO:+0200
TZNAME:CEST
DTSTART:20180325T010000
END:DAYLIGHT
BEGIN:STANDARD
TZOFFSETFROM:+0200
TZOFFSETTO:+0100
TZNAME:CET
DTSTART:20181028T010000
END:STANDARD
BEGIN:DAYLIGHT
TZOFFSETFROM:+0100
TZOFFSETTO:+0200
TZNAME:CEST
DTSTART:20190331T010000
END:DAYLIGHT
BEGIN:STANDARD
TZOFFSETFROM:+0200
TZOFFSETTO:+0100
TZNAME:CET
DTSTART:20191027T010000
END:STANDARD
END:VTIMEZONE
BEGIN:VEVENT
DTSTART;VALUE=DATE:20180623
DTEND;VALUE=DATE:20180624
DTSTAMP:20260423T184803
CREATED:20180111T223146Z
LAST-MODIFIED:20180610T065854Z
UID:1182-1529712000-1529798399@maennerchor-muenzesheim.de
SUMMARY:Landes-Musik-Festival in Lahr
DESCRIPTION:Am 23. Juni schlägt in Lahr das Herz der Amateurmusik. Über 2000 Musiker und Sänger versetzen die Bühnen der Landesgartenschau Lahr in harmonische Schwingungen. \nMehr als 60 Chöre\, Kapellen\, Orchester und Ensembles aus ganz Baden- Württemberg reisen an diesem Samstag in die Schwarzwald-Stadt um 20 Jahre Landes-Musik-Festival und zehn Jahre Landesmusikverband zu feiern. \nZusammen mit den Sängern der Harmonie Büchenau fährt auch der Männerchor Münzesheim zu diesem Ereignis nach Lahr. Beide Chöre stehen unter der musikalischen Leitung von Andreas Burghardt und werden zwischen 14:00 und 15:30 Uhr auf der E-Werk-Bühne das Publikum für ca. 1 Stunde mit ihren Liedvorträgen unterhalten. Neben ihren jeweiligen Einzelauftritten werden beide Chöre auch gemeinsam als Chorgemeinschaft auf der Bühne stehen. \nDas musikalische Programm beider Chöre wurde vom Chorleiter gemäß dem Motto des Landes-Musik-Festivals „Musik.lebt.bewegt.“ zusammengestellt. An diesem Tag der Amateurmusik in Lahr wird sich die Vielfalt der musikalischen Kulturlandschaft Baden-Württembergs zeigen. Besucher dürfen sich auf ein abwechslungsreiches musikalisches Programm\, vom Alphorn über Blasmusik\, vom Akkordeon über Saiteninstrumente bis hin zu den Chören\, freuen.
URL:https://maennerchor-muenzesheim.de/event/landes-musik-festival-in-lahr/
LOCATION:Schloßplatz 19\, Lahr\, Schloßplatz 19\, Lahr\, Baden-Württemberg\, 77933\, Deutschland
ATTACH;FMTTYPE=image/png:https://maennerchor-muenzesheim.de/wp-content/uploads/2018/06/lmf2018.png
ORGANIZER;CN="Bund Deutscher Blasmusikverb%C3%A4nde e. V.":MAILTO:info@blasmusikverbaende.de
END:VEVENT
END:VCALENDAR