BEGIN:VCALENDAR
VERSION:2.0
PRODID:-//Männerchor Münzesheim - ECPv6.15.20//NONSGML v1.0//EN
CALSCALE:GREGORIAN
METHOD:PUBLISH
X-WR-CALNAME:Männerchor Münzesheim
X-ORIGINAL-URL:https://maennerchor-muenzesheim.de
X-WR-CALDESC:Veranstaltungen für Männerchor Münzesheim
REFRESH-INTERVAL;VALUE=DURATION:PT1H
X-Robots-Tag:noindex
X-PUBLISHED-TTL:PT1H
BEGIN:VTIMEZONE
TZID:Europe/Berlin
BEGIN:DAYLIGHT
TZOFFSETFROM:+0100
TZOFFSETTO:+0200
TZNAME:CEST
DTSTART:20170326T010000
END:DAYLIGHT
BEGIN:STANDARD
TZOFFSETFROM:+0200
TZOFFSETTO:+0100
TZNAME:CET
DTSTART:20171029T010000
END:STANDARD
BEGIN:DAYLIGHT
TZOFFSETFROM:+0100
TZOFFSETTO:+0200
TZNAME:CEST
DTSTART:20180325T010000
END:DAYLIGHT
BEGIN:STANDARD
TZOFFSETFROM:+0200
TZOFFSETTO:+0100
TZNAME:CET
DTSTART:20181028T010000
END:STANDARD
BEGIN:DAYLIGHT
TZOFFSETFROM:+0100
TZOFFSETTO:+0200
TZNAME:CEST
DTSTART:20190331T010000
END:DAYLIGHT
BEGIN:STANDARD
TZOFFSETFROM:+0200
TZOFFSETTO:+0100
TZNAME:CET
DTSTART:20191027T010000
END:STANDARD
END:VTIMEZONE
BEGIN:VEVENT
DTSTART;VALUE=DATE:20180414
DTEND;VALUE=DATE:20180415
DTSTAMP:20260423T214554
CREATED:20180111T222046Z
LAST-MODIFIED:20180403T062231Z
UID:1166-1523664000-1523750399@maennerchor-muenzesheim.de
SUMMARY:Frühlingssingen Oberacker
DESCRIPTION:Der Männerchor freut sich\, dieses Jahr wieder bei den Freunden des Just For Fun Chores aus Oberacker eingeladen zu sein\, um gemeinsam mit anderen Chören den musikalischen Start in den Frühling einzuleiten.
URL:https://maennerchor-muenzesheim.de/event/fruehlingssingen-oberacker/
LOCATION:Sporthalle Oberacker\, Burgweg\, Kraichtal-Oberacker\, Baden-Württemberg\, 76703\, Deutschland
ATTACH;FMTTYPE=image/jpeg:https://maennerchor-muenzesheim.de/wp-content/uploads/2018/01/Plakat-frühlingssingen-Oberacker-2018.jpg
ORGANIZER;CN="Just For Fun Oberacker":MAILTO:Michael@justforfun-oberacker.de
END:VEVENT
END:VCALENDAR